BEGIN:VCALENDAR
VERSION:2.0
PRODID:-//Calgary Marketing Association - ECPv4.6.21//NONSGML v1.0//EN
CALSCALE:GREGORIAN
METHOD:PUBLISH
X-WR-CALNAME:Calgary Marketing Association
X-ORIGINAL-URL:http://oldcalgarycma.cidnee.com
X-WR-CALDESC:Events for Calgary Marketing Association
BEGIN:VEVENT
DTSTART;TZID=UTC+0:20190626T090000
DTEND;TZID=UTC+0:20190626T110000
DTSTAMP:20260424T231438
CREATED:20190617T161705Z
LAST-MODIFIED:20190617T161705Z
UID:14964-1561539600-1561546800@oldcalgarycma.cidnee.com
SUMMARY:Digital Marketing 101 With ClickDimensions
DESCRIPTION:The team at ClickDimensions will be in Calgary to host a free in-person learning event. The session will focus on sharing ideas\, case studies\, and best practices to inspire marketers with ways to implement new tactics and techniques. \n– Marketing Automation and Business Intelligence Best Practices\n– Nurture Marketing Campaigns\n– Creating Custom Surveys\n– Integrating Social into CRM\n– Event Management: Remove the manual processes of managing registrations and communications \n
URL:http://oldcalgarycma.cidnee.com/event/digital-marketing-101-with-clickdimensions/
LOCATION:7th Floor\, 110 9th Ave SW\, Calgary\, T2P 0T1\, Canada
CATEGORIES:Community Event
ATTACH;FMTTYPE=image/gif:http://oldcalgarycma.cidnee.com/wp-content/uploads/clickdimensions-logo-construction1.gif
ORGANIZER;CN="Betach%20Solutions":MAILTO:info@betach.com
END:VEVENT
END:VCALENDAR