BEGIN:VCALENDAR
VERSION:2.0
PRODID:-//Calgary Marketing Association - ECPv4.6.21//NONSGML v1.0//EN
CALSCALE:GREGORIAN
METHOD:PUBLISH
X-WR-CALNAME:Calgary Marketing Association
X-ORIGINAL-URL:http://oldcalgarycma.cidnee.com
X-WR-CALDESC:Events for Calgary Marketing Association
BEGIN:VEVENT
DTSTART;TZID=UTC+0:20190702T090000
DTEND;TZID=UTC+0:20190809T160000
DTSTAMP:20260424T212001
CREATED:20190429T153250Z
LAST-MODIFIED:20190502T212304Z
UID:14637-1562058000-1565366400@oldcalgarycma.cidnee.com
SUMMARY:SAIT Photography fast-track
DESCRIPTION:Whether it’s for the art or the fun of photography\, this program will help you discover new ways to see the world through a photographic lens. This program covers the fundamental tools and techniques for the craft of photography. \nPlease note: students must supply their own digital SLR camera. \nAreas covered:\n– an introduction to ISO\, aperture and shutter speed\n– working with photo filters\n– Adobe Photoshop and Lightroom\n– printing techniques\n– studio lighting\n– file management \nDates and Time\nJuly 2 – August 9\, 2019\nMonday-Friday\n9 am – 4 pm\nThis program includes field trips and full days of shooting. \nDeadline to register is June 10\, 2019. \n
URL:http://oldcalgarycma.cidnee.com/event/sait-photography-fast-track/
LOCATION:1301-16 Avenue NW\, Calgary\, T2M0L4
CATEGORIES:Community Event
ATTACH;FMTTYPE=image/jpeg:http://oldcalgarycma.cidnee.com/wp-content/uploads/rr2592-0862_FLT-0197.jpg
ORGANIZER;CN="SAIT%2C%20School%20of%20Information%20and%20Communications%20Technologies":MAILTO:ict.coned.info@sait.ca
END:VEVENT
END:VCALENDAR